BEGIN:VCALENDAR
VERSION:2.0
PRODID:-//Dexterity UX - ECPv6.13.2.1//NONSGML v1.0//EN
CALSCALE:GREGORIAN
METHOD:PUBLISH
X-WR-CALNAME:Dexterity UX
X-ORIGINAL-URL:https://dexterityux.com
X-WR-CALDESC:Events for Dexterity UX
REFRESH-INTERVAL;VALUE=DURATION:PT1H
X-Robots-Tag:noindex
X-PUBLISHED-TTL:PT1H
BEGIN:VTIMEZONE
TZID:America/Detroit
BEGIN:DAYLIGHT
TZOFFSETFROM:-0500
TZOFFSETTO:-0400
TZNAME:EDT
DTSTART:20230312T070000
END:DAYLIGHT
BEGIN:STANDARD
TZOFFSETFROM:-0400
TZOFFSETTO:-0500
TZNAME:EST
DTSTART:20231105T060000
END:STANDARD
END:VTIMEZONE
BEGIN:VEVENT
DTSTART;TZID=America/Detroit:20231208T120000
DTEND;TZID=America/Detroit:20231208T130000
DTSTAMP:20260423T165600
CREATED:20230910T155425Z
LAST-MODIFIED:20230910T155425Z
UID:860-1702036800-1702040400@dexterityux.com
SUMMARY:December UX Hangout
DESCRIPTION:Once a month\, on the 2nd Friday at Noon ET\, User Experience practitioners from across Ohio hang out on Zoom. \nWe meet each other\, share news (e.g.\, what is happening in local UX communities)\, and discuss opportunities to collaborate. We work together to solve issues\, such as the lack of UX career awareness in K-12. \nWhat will we cover in December? It depends who shows up! Join us to network (esp. if looking for a job)\, announce your organization’s job openings\, recap a great meetup\, publicize upcoming events\, or get feedback on a challenge at work. \nRSVP at eventbrite.com.
URL:https://dexterityux.com/ohioux-calendar/december-ux-hangout/
CATEGORIES:By Ohio UX Roundtable,Online
ATTACH;FMTTYPE=image/jpeg:https://dexterityux.com/wp-content/uploads/uxrt-hangout-banner.jpeg
END:VEVENT
BEGIN:VEVENT
DTSTART;TZID=America/Detroit:20231201T120000
DTEND;TZID=America/Detroit:20231201T130000
DTSTAMP:20260423T165600
CREATED:20231107T141431Z
LAST-MODIFIED:20231107T141431Z
UID:1209-1701432000-1701435600@dexterityux.com
SUMMARY:Integrating Experiences: Working in Academia and Industry
DESCRIPTION:ACM-W OCWiC welcomes Dr. Alaina Phillips for Integrating Experiences: Working in Academia and Industry\, December 1\, Noon\, Zoom. Part of the OCWiC speaker series. \nSome students experience difficulties breaking into UX and UX research. During this session\, Dr. Phillips will highlight some of the challenges students face. She will discuss tips on overcoming those issues and how to turn them into strengths\, towards their new journeys in UX. \nAlaina is a cognitive psychologist who transitioned into the field of UX in 2015. She has a well-established background in human behavior and her theoretical orientation is grounded in Gestalt psychology and cognitive aging. Her research projects have centered around visual processing and attention\, cognitive aging\, and universal design. Her publications include her master’s thesis work on transit maps in the Encyclopedia of Human Behavior: Environmental Cognition (See Sterns & Sterns) and her dissertation work “Global Precedence & Aging: Evidence of Parallel Processing” which explores visual attention and aging. Currently\, She is a Sr. UX Researcher at PPG. Additionally\, she teaches graduate studies for New York University Steinhardt in the Department of Applied Psychology. \nUse a Google form to register and get the online meeting link.
URL:https://dexterityux.com/ohioux-calendar/integrating-experiences-working-in-academia-and-industry/
CATEGORIES:By OCWiC,Online
ATTACH;FMTTYPE=image/png:https://dexterityux.com/wp-content/uploads/ocwic-Speaker-2023-12-01.png
END:VEVENT
BEGIN:VEVENT
DTSTART;TZID=America/Detroit:20231116T180000
DTEND;TZID=America/Detroit:20231116T200000
DTSTAMP:20260423T165600
CREATED:20231024T185339Z
LAST-MODIFIED:20231024T185339Z
UID:1177-1700157600-1700164800@dexterityux.com
SUMMARY:Mad Gab Game Night
DESCRIPTION:The Ohio Society for Technical Communication has a season of online meetings over lunch. \nNovember topic: Mad Gab Game Night. \nRegistration at zoom.us.
URL:https://dexterityux.com/ohioux-calendar/mad-gab-game-night/
CATEGORIES:By Ohio STC,Online
ATTACH;FMTTYPE=image/png:https://dexterityux.com/wp-content/uploads/Ohio_STC_logo3.png
END:VEVENT
BEGIN:VEVENT
DTSTART;TZID=America/Detroit:20231110T120000
DTEND;TZID=America/Detroit:20231110T130000
DTSTAMP:20260423T165600
CREATED:20230910T155246Z
LAST-MODIFIED:20230910T155246Z
UID:858-1699617600-1699621200@dexterityux.com
SUMMARY:November UX Hangout
DESCRIPTION:Once a month\, on the 2nd Friday at Noon ET\, User Experience practitioners from across Ohio hang out on Zoom. \nWe meet each other\, share news (e.g.\, what is happening in local UX communities)\, and discuss opportunities to collaborate. We work together to solve issues\, such as the lack of UX career awareness in K-12. \nWhat will we cover in November? It depends who shows up! Join us to network (esp. if looking for a job)\, announce your organization’s job openings\, recap a great meetup\, publicize upcoming events\, or get feedback on a challenge at work. \nRSVP at eventbrite.com.
URL:https://dexterityux.com/ohioux-calendar/november-ux-hangout/
CATEGORIES:By Ohio UX Roundtable,Online
ATTACH;FMTTYPE=image/jpeg:https://dexterityux.com/wp-content/uploads/uxrt-hangout-banner.jpeg
END:VEVENT
BEGIN:VEVENT
DTSTART;TZID=America/Detroit:20231102T143000
DTEND;TZID=America/Detroit:20231102T153000
DTSTAMP:20260423T165600
CREATED:20231106T013955Z
LAST-MODIFIED:20231106T013955Z
UID:1187-1698935400-1698939000@dexterityux.com
SUMMARY:Ugly Prototyping By Design and Learning to Pivot Your Ideas
DESCRIPTION:Join the Veale Institute for Entrepreneurship Thursday\, November 2 as part of the Case Western Reserve University Entrepreneurship Speaker Series for a roundtable discussion with Bill Gaussa\, Head of Architecture and Technology at Philips. \nBill has a strong background in product management\, solution development\, and creating innovative startups in the healthcare industry. Come see what it takes to be a leader in innovative healthcare solutions! \nSee case.edu for more information.
URL:https://dexterityux.com/ohioux-calendar/ugly-prototyping-by-design-and-learning-to-pivot-your-ideas/
CATEGORIES:Cleveland metro (in-person),Online
ATTACH;FMTTYPE=image/png:https://dexterityux.com/wp-content/uploads/r3_image_upload_3491171_Bill_Gaussa_1023144133.png
END:VEVENT
BEGIN:VEVENT
DTSTART;TZID=America/Detroit:20231020T120000
DTEND;TZID=America/Detroit:20231020T130000
DTSTAMP:20260423T165600
CREATED:20230921T190827Z
LAST-MODIFIED:20230921T190827Z
UID:983-1697803200-1697806800@dexterityux.com
SUMMARY:Executive Storytelling
DESCRIPTION:Executive storytelling is essential to getting buy-in for new ideas\, communicating complex concepts\, building relationships\, and driving change. \nJoin the Cleveland Product Meetup as Justin Hunsaker\, Executive Coach & Organizational Consultant at John Polk & Associates\, shares The Platinum Rule of Presentations\, classic storytelling frameworks\, logical frameworks\, storyboarding\, and more. These vital tools can help Product professionals achieve their goals and impact their organizations. \nRSVP at meetup.com.
URL:https://dexterityux.com/ohioux-calendar/executive-storytelling/
CATEGORIES:By Cleveland Product Meetup,Online
ATTACH;FMTTYPE=image/png:https://dexterityux.com/wp-content/uploads/Screen-Shot-2023-09-21-at-3.07.48-PM.png
END:VEVENT
BEGIN:VEVENT
DTSTART;TZID=America/Detroit:20231018T120000
DTEND;TZID=America/Detroit:20231018T120000
DTSTAMP:20260423T165600
CREATED:20230921T191351Z
LAST-MODIFIED:20230921T191351Z
UID:986-1697630400-1697630400@dexterityux.com
SUMMARY:Path to Becoming a Tech Writer
DESCRIPTION:The Ohio Society for Technical Communication has a season of online meetings over lunch. \nOctober topic: The path to becoming a tech writer – members share their career journey. \nRegistration at zoom.us.
URL:https://dexterityux.com/ohioux-calendar/path-to-becoming-a-tech-writer/
CATEGORIES:By Ohio STC,Online
ATTACH;FMTTYPE=image/png:https://dexterityux.com/wp-content/uploads/Ohio_STC_logo3.png
END:VEVENT
BEGIN:VEVENT
DTSTART;TZID=America/Detroit:20231013T120000
DTEND;TZID=America/Detroit:20231013T130000
DTSTAMP:20260423T165600
CREATED:20230910T155116Z
LAST-MODIFIED:20230910T155116Z
UID:855-1697198400-1697202000@dexterityux.com
SUMMARY:October UX Hangout
DESCRIPTION:Once a month\, on the 2nd Friday at Noon ET\, User Experience practitioners from across Ohio hang out on Zoom. \nWe meet each other\, share news (e.g.\, what is happening in local UX communities)\, and discuss opportunities to collaborate. We work together to solve issues\, such as the lack of UX career awareness in K-12. \nWhat will we cover in October? It depends who shows up! Join us to network (esp. if looking for a job)\, announce your organization’s job openings\, recap a great meetup\, publicize upcoming events\, or get feedback on a challenge at work. \nRSVP at eventbrite.com.
URL:https://dexterityux.com/ohioux-calendar/october-ux-hangout/
CATEGORIES:By Ohio UX Roundtable,Online
ATTACH;FMTTYPE=image/jpeg:https://dexterityux.com/wp-content/uploads/uxrt-hangout-banner.jpeg
END:VEVENT
BEGIN:VEVENT
DTSTART;VALUE=DATE:20231007
DTEND;VALUE=DATE:20231009
DTSTAMP:20260423T165600
CREATED:20230924T002722Z
LAST-MODIFIED:20230924T002722Z
UID:1011-1696636800-1696809599@dexterityux.com
SUMMARY:NASA International Space Apps Challenge
DESCRIPTION:The NASA International Space Apps Challenge is a hackathon for coders\, scientists\, designers\, storytellers\, makers\, technologists\, and innovators around the world to come together and use open data from NASA and its Space Agency Partners to create solutions to challenges we face on Earth and in space. \nDon’t miss out on the opportunity to join us in person at NASA Glenn Research Center or virtually – online\, no matter where you are in the world\, through our hybrid model. \nSee spaceappschallenge.org for more information. \n 
URL:https://dexterityux.com/ohioux-calendar/nasa-international-space-apps-challenge/
CATEGORIES:Cleveland metro (in-person),Online
ATTACH;FMTTYPE=image/png:https://dexterityux.com/wp-content/uploads/spaceapps.png
END:VEVENT
BEGIN:VEVENT
DTSTART;TZID=America/Detroit:20230929T120000
DTEND;TZID=America/Detroit:20230929T130000
DTSTAMP:20260423T165600
CREATED:20230913T020807Z
LAST-MODIFIED:20230913T021154Z
UID:936-1695988800-1695992400@dexterityux.com
SUMMARY:Explore UX
DESCRIPTION:The Ohio Celebration of Women in Computing is excited to kick off its 2023-2024 Speaker Series on Friday\, September 29\, 2023 from 12-1pm\, as part of Ohio Tech Day\, celebrating Ohio tech and inspiring our next generation. \n\nExplore UX with Gloria MacGillis and Pearl Greene\n\nRegister by filling out a Google form. The meeting link will follow once you are registered. \nOCWIC is partnering with the OhioX User Experience Roundtable\, which connects the UX community across the state in order to help make Ohio a human-centered tech hub.
URL:https://dexterityux.com/ohioux-calendar/explore-ux/
CATEGORIES:By OCWiC,By Ohio UX Roundtable,Ohio Tech Day,Online
ATTACH;FMTTYPE=image/png:https://dexterityux.com/wp-content/uploads/OCWIC-OTD-exploreUX.png
END:VEVENT
BEGIN:VEVENT
DTSTART;TZID=America/Detroit:20230921T120000
DTEND;TZID=America/Detroit:20230921T130000
DTSTAMP:20260423T165600
CREATED:20230911T165622Z
LAST-MODIFIED:20230911T165907Z
UID:926-1695297600-1695301200@dexterityux.com
SUMMARY:Ohio STC Lunch
DESCRIPTION:The Ohio Society for Technical Communication kicks off a new season of online meetings over lunch. \nSeptember topic: What’s in the works for the chapter this year. What other things would you like to see us do? \nRegistration at zoom.us. \n 
URL:https://dexterityux.com/ohioux-calendar/ohio-stc-lunch/
CATEGORIES:By Ohio STC,Online
ATTACH;FMTTYPE=image/png:https://dexterityux.com/wp-content/uploads/Ohio_STC_logo3.png
END:VEVENT
BEGIN:VEVENT
DTSTART;TZID=America/Detroit:20230919T183000
DTEND;TZID=America/Detroit:20230919T200000
DTSTAMP:20260423T165600
CREATED:20230910T162311Z
LAST-MODIFIED:20230910T162311Z
UID:872-1695148200-1695153600@dexterityux.com
SUMMARY:Recruiting Users in an Imperfect World
DESCRIPTION:Join UX Akron for an online event: Recruiting Users in an Imperfect World with Abigail Plumb-Larrick. \nIf you’re doing research with users\, you need a way to find them. Whether you’re a new UX designer dipping a toe into research\, or a seasoned researcher seeking a unique demographic\, identifying and locating the right people to participate in your studies can be a challenge. \nThis talk will focus on strategies and tactics for identifying and recruiting study participants in the face of financial\, organizational and regulatory considerations. \nSee meetup.com for details.
URL:https://dexterityux.com/ohioux-calendar/recruiting-users-in-an-imperfect-world/
CATEGORIES:By UX Akron,Online
ATTACH;FMTTYPE=image/png:https://dexterityux.com/wp-content/uploads/Screen-Shot-2023-09-10-at-12.22.47-PM.png
END:VEVENT
BEGIN:VEVENT
DTSTART;TZID=America/Detroit:20230914T120000
DTEND;TZID=America/Detroit:20230914T130000
DTSTAMP:20260423T165600
CREATED:20230910T185845Z
LAST-MODIFIED:20230911T164109Z
UID:879-1694692800-1694696400@dexterityux.com
SUMMARY:Handbook of Augmented Reality Training Design Principles
DESCRIPTION:The Southern Ohio HFES chapter hosts Laura Militello and Christen Sushereba of Applied Decision Science. They will present their work about training using augmented reality. \n\n\n\nin this talk\, Laura and Christen will present a set of design principles for creating recognition skills training using augmented reality (AR). AR is a promising technology for training perceptual skills\, but published studies have been mixed regarding its practical effectiveness in creating meaningful training experiences. Together with their coauthor\, Dr. Sowmya Ramachandran\, Ms. Militello and Ms. Sushereba created a set of 11 training design principles for meaningful integration of AR technology into perceptual and recognition skills training. These principles are derived from findings in various domains including Naturalistic Decision Making\, expertise\, sensemaking\, instructional systems design\, education\, and intelligent tutoring. Ms. Sushereba will provide demonstrations of sample AR technologies \n\n\n\nThis event will be recorded and will take place both in person and virtually (Google Meet). In person attendees should arrive at the Wright Brothers Institute at 5000 Springfield Street\, Riverside\, OH 45431 prior to noon.
URL:https://dexterityux.com/ohioux-calendar/training-and-augmented-reality/
CATEGORIES:By Southern Ohio HFES,Dayton metro (in-person),Online
ATTACH;FMTTYPE=image/png:https://dexterityux.com/wp-content/uploads/Screen-Shot-2023-09-11-at-12.39.02-PM.png
END:VEVENT
BEGIN:VEVENT
DTSTART;TZID=America/Detroit:20230503T230000
DTEND;TZID=America/Detroit:20230503T235000
DTSTAMP:20260423T165600
CREATED:20230910T155943Z
LAST-MODIFIED:20230910T155943Z
UID:862-1683154800-1683157800@dexterityux.com
SUMMARY:24 Hours of UX Session
DESCRIPTION:Join the OhioX User Experience Roundtable as we host Hour 23 (yes\, 11pm in Ohio!) of the 24 Hours of UX conference on May 3rd. Our very own Joshua Randall will present “Preventing the Future” as part of the Futures of UX theme. \nPlan your May 3rd for this very special event. Pop in during the day to catch talks from around the globe. Make sure you can stay up late! At 10pm\, UX Akron is hosting Marc Majers in an interactive discussion about the futures of UX. And then Joshua will be at 11pm.
URL:https://dexterityux.com/ohioux-calendar/24-hours-of-ux-session/
CATEGORIES:24 Hours of UX,By Ohio UX Roundtable,Online
ATTACH;FMTTYPE=image/jpeg:https://dexterityux.com/wp-content/uploads/ohioux-24hux.jpeg
END:VEVENT
BEGIN:VEVENT
DTSTART;TZID=America/Detroit:20230120T120000
DTEND;TZID=America/Detroit:20230120T130000
DTSTAMP:20260423T165600
CREATED:20230910T193646Z
LAST-MODIFIED:20230910T193646Z
UID:907-1674216000-1674219600@dexterityux.com
SUMMARY:Ohio UX Authors
DESCRIPTION:Hear the stories of several Ohio authors who have published books about user experience. For our inaugural launch\, we are pleased to have Marc A. Majers\, Laura Leventhal\, Marty Gage\, and Spencer Murrell as guest authors. \nUsing their books about knowing your audience\, usability engineering\, and generative research as examples\, they will share the reason behind their topic and what spurred them to write\, who it was written for\, and how has the book been used.
URL:https://dexterityux.com/ohioux-calendar/ohio-ux-authors/
CATEGORIES:By Ohio UX Roundtable,Online
ATTACH;FMTTYPE=image/png:https://dexterityux.com/wp-content/uploads/2023-01-20UXRoundtable.png
END:VEVENT
END:VCALENDAR