BEGIN:VCALENDAR
VERSION:2.0
PRODID:-//Dexterity UX - ECPv6.13.2.1//NONSGML v1.0//EN
CALSCALE:GREGORIAN
METHOD:PUBLISH
X-ORIGINAL-URL:https://dexterityux.com
X-WR-CALDESC:Events for Dexterity UX
REFRESH-INTERVAL;VALUE=DURATION:PT1H
X-Robots-Tag:noindex
X-PUBLISHED-TTL:PT1H
BEGIN:VTIMEZONE
TZID:America/Detroit
BEGIN:DAYLIGHT
TZOFFSETFROM:-0500
TZOFFSETTO:-0400
TZNAME:EDT
DTSTART:20230312T070000
END:DAYLIGHT
BEGIN:STANDARD
TZOFFSETFROM:-0400
TZOFFSETTO:-0500
TZNAME:EST
DTSTART:20231105T060000
END:STANDARD
END:VTIMEZONE
BEGIN:VEVENT
DTSTART;VALUE=DATE:20230926
DTEND;VALUE=DATE:20230930
DTSTAMP:20260425T131301
CREATED:20230924T001717Z
LAST-MODIFIED:20230924T001741Z
UID:1004-1695686400-1696031999@dexterityux.com
SUMMARY:CWRU Innovation Week
DESCRIPTION:Celebrate and engage in Case Western Reserve University’s culture of innovation and entrepreneurship during our second annual Innovation Week\, Tuesday\, Sept. 26 through Friday\, Sept. 29. All interested faculty\, staff\, and students are encouraged to attend Innovation Week. Members of the public also are welcomed. \nA sample of events: \n\nxLab Future of Baseball Fanship Innovation Challenge with the Cleveland Guardians\nThe Problem with AI and Problem Solving: Ethics\nPanel Discussion “Innovation as Problem Solving at Scale”\nInnovation and Corporate Engagement\n\nSee case.edu for more information. \n 
URL:https://dexterityux.com/ohioux-calendar/cwru-innovation-week/
CATEGORIES:Cleveland metro (in-person)
ATTACH;FMTTYPE=image/png:https://dexterityux.com/wp-content/uploads/r3_image_upload_2705213_innovationweekcgjpg_823145427.png
END:VEVENT
BEGIN:VEVENT
DTSTART;TZID=America/Detroit:20230925T180000
DTEND;TZID=America/Detroit:20230925T210000
DTSTAMP:20260425T131301
CREATED:20230919T130647Z
LAST-MODIFIED:20230919T130647Z
UID:973-1695664800-1695675600@dexterityux.com
SUMMARY:High Tech Meetup: Social at BrewDog
DESCRIPTION:Cleveland tech/startup community: Join us for casual networking and re-connecting with your fellow humans\, accompanied by some of the finest beverages this city has to offer! No big agenda\, no KPIs\, just community members re-building community the old fashioned way. \nWhether you’re a designer\, developer\, founder\, copywriter\, maker\, marketeer\, or anything in between\, “We Make the Internet” is bringing people together from different disciplines to inspire new ideas\, improve our skillsets\, create friendships\, and help each other get better at what we do. \nRSVP at meetup\,com. \n 
URL:https://dexterityux.com/ohioux-calendar/high-tech-meetup-social-at-brewdog/
CATEGORIES:Cleveland metro (in-person)
ATTACH;FMTTYPE=image/png:https://dexterityux.com/wp-content/uploads/Screen-Shot-2023-09-19-at-9.03.46-AM.png
END:VEVENT
BEGIN:VEVENT
DTSTART;TZID=America/Detroit:20230920T180000
DTEND;TZID=America/Detroit:20230920T190000
DTSTAMP:20260425T131301
CREATED:20230917T123543Z
LAST-MODIFIED:20230917T123543Z
UID:962-1695232800-1695236400@dexterityux.com
SUMMARY:Experience the Future of Innovation at Sears Thinkbox
DESCRIPTION:Calling all young IT professionals! Don’t miss the incredible opportunity to go behind the scenes and witness groundbreaking innovation in action at the Sears Thinkbox\, located at Case Western Reserve University. \nJoin the Akron Association of Information Technology Professionals (AITP) for an exclusive guided tour of the seven-story makerspace led by none other than Bob Sopko\, the visionary mind behind Think[box]. \nDuring this immersive experience\, you’ll get an up-close look at cutting-edge technologies\, state-of-the-art equipment\, and a collaborative environment that sparks creativity. \nDiscover how this innovation hub is shaping the future of design\, prototyping\, and entrepreneurship. \nMore information at akron-aitp.org.
URL:https://dexterityux.com/ohioux-calendar/experience-the-future-of-innovation-at-sears-thinkbox/
CATEGORIES:Cleveland metro (in-person)
ATTACH;FMTTYPE=image/jpeg:https://dexterityux.com/wp-content/uploads/thiunkbox.jpeg
END:VEVENT
BEGIN:VEVENT
DTSTART;TZID=America/Detroit:20230919T083000
DTEND;TZID=America/Detroit:20230919T100000
DTSTAMP:20260425T131301
CREATED:20230910T190352Z
LAST-MODIFIED:20230910T190535Z
UID:882-1695112200-1695117600@dexterityux.com
SUMMARY:September Cleveland Product Lean Coffee
DESCRIPTION:Come join Cleveland’s monthly Product Lean Coffee at the spacious Van Aken Market Hall in Shaker Heights to chat about all things Product\, from tactics to strategy – and how Product relates to other things like design\, UX\, engineering\, sales\, and marketing. \nSo bring your ideas\, thoughts\, questions\, or just feel free to grab a cup of Rising Star coffee and listen. \nSee meetup.com for more information.
URL:https://dexterityux.com/ohioux-calendar/september-cleveland-product-meetup/
CATEGORIES:By Cleveland Product Meetup,Cleveland metro (in-person)
ATTACH;FMTTYPE=image/png:https://dexterityux.com/wp-content/uploads/Screen-Shot-2023-09-10-at-3.00.44-PM.png
END:VEVENT
BEGIN:VEVENT
DTSTART;TZID=America/Detroit:20230914T183000
DTEND;TZID=America/Detroit:20230914T203000
DTSTAMP:20260425T131301
CREATED:20230910T142252Z
LAST-MODIFIED:20230910T184758Z
UID:828-1694716200-1694723400@dexterityux.com
SUMMARY:Product End of Life with Cuyahoga County Solid Waste District
DESCRIPTION:We love creating products\, but they all end up somewhere. Join IDSA Cleveland to learn how to create better end of life outcomes for your designs. \nAs industrial designers\, we all hope to be environmentally conscious with what we put into the world. A big part of that is considering what will happen at the end of the product’s useful life. \nDoreen Schreiber\, Business Recycling Specialist & TRUE Advisor at the Cuyahoga County Solid Waste District\, will guide us through the possibilities and how we can look ahead to encourage better outcomes. \nSee eventbrite.com for more information.
URL:https://dexterityux.com/ohioux-calendar/product-end-of-life-with-cuyahoga-county-solid-waste-district/
CATEGORIES:By IDSA Cleveland,Cleveland metro (in-person)
ATTACH;FMTTYPE=image/jpeg:https://dexterityux.com/wp-content/uploads/idsa-cle-waste.jpeg
END:VEVENT
BEGIN:VEVENT
DTSTART;VALUE=DATE:20230721
DTEND;VALUE=DATE:20230724
DTSTAMP:20260425T131301
CREATED:20231001T002243Z
LAST-MODIFIED:20231001T002243Z
UID:1027-1689897600-1690156799@dexterityux.com
SUMMARY:Cleveland GiveCamp 2023
DESCRIPTION:GiveCamp is a weekend-long event where software developers\, designers\, and more donate their time to create custom software for non-profit organizations. This custom software could be a new website for the nonprofit organization\, a small data-collection application to keep track of members\, or a application for the Red Cross that automatically emails a blood donors. The only limitation is that the project should be scoped to be able to be completed in a weekend. \nIf you’re a designer\, programmer\, writer/editor or project management whiz who wants to work with great people doing meaningful work that begins and ends in one weekend\, join us. \nSee clevelandgivecamp.org for more information. Register at eventbrite.com.
URL:https://dexterityux.com/ohioux-calendar/cleveland-givecamp-2023/
CATEGORIES:Cleveland metro (in-person)
ATTACH;FMTTYPE=image/jpeg:https://dexterityux.com/wp-content/uploads/clegivecamp2023.jpeg
END:VEVENT
END:VCALENDAR