BEGIN:VCALENDAR
VERSION:2.0
PRODID:-//Dexterity UX - ECPv6.13.2.1//NONSGML v1.0//EN
CALSCALE:GREGORIAN
METHOD:PUBLISH
X-WR-CALNAME:Dexterity UX
X-ORIGINAL-URL:https://dexterityux.com
X-WR-CALDESC:Events for Dexterity UX
REFRESH-INTERVAL;VALUE=DURATION:PT1H
X-Robots-Tag:noindex
X-PUBLISHED-TTL:PT1H
BEGIN:VTIMEZONE
TZID:America/Detroit
BEGIN:DAYLIGHT
TZOFFSETFROM:-0500
TZOFFSETTO:-0400
TZNAME:EDT
DTSTART:20230312T070000
END:DAYLIGHT
BEGIN:STANDARD
TZOFFSETFROM:-0400
TZOFFSETTO:-0500
TZNAME:EST
DTSTART:20231105T060000
END:STANDARD
BEGIN:DAYLIGHT
TZOFFSETFROM:-0500
TZOFFSETTO:-0400
TZNAME:EDT
DTSTART:20240310T070000
END:DAYLIGHT
BEGIN:STANDARD
TZOFFSETFROM:-0400
TZOFFSETTO:-0500
TZNAME:EST
DTSTART:20241103T060000
END:STANDARD
END:VTIMEZONE
BEGIN:VEVENT
DTSTART;TZID=America/Detroit:20240417T180000
DTEND;TZID=America/Detroit:20240417T193000
DTSTAMP:20260423T135439
CREATED:20240125T221326Z
LAST-MODIFIED:20240322T234744Z
UID:1350-1713376800-1713382200@dexterityux.com
SUMMARY:Marty Gage at IxDA Cincinnati
DESCRIPTION:IxDA Cincinnati presents The Aesthetics of Easy to Use by Marty Gage. \nThis presentation will be a visual description of how people explain “easy to use”\, in their own words\, using pictures and stimuli. Characteristics of user-friendliness such as intuitive\, obvious\, straightforward\, familiar\, clear\, effortless\, ergonomic\, and organized will be visualized. These qualities of “easy to use” will come to life through a broad range of categories and contexts including automotive\, electronics\, banks\, tools\, food packaging\, over-the-counter medications\, and appliances. Making all aspects of life easy is a universal need. Pictures will be used to make “easy to use” easy to understand. \nRSVP at meetup.com or eventbrite.com.
URL:https://dexterityux.com/ohioux-calendar/marty-gage-at-ixda-cincinnati/
CATEGORIES:By IxDA Cincinnati,Cincinnati metro (in-person)
ATTACH;FMTTYPE=image/webp:https://dexterityux.com/wp-content/uploads/600_519744513.webp
END:VEVENT
BEGIN:VEVENT
DTSTART;TZID=America/Detroit:20240327T180000
DTEND;TZID=America/Detroit:20240327T200000
DTSTAMP:20260423T135439
CREATED:20240323T001630Z
LAST-MODIFIED:20240323T001630Z
UID:1442-1711562400-1711569600@dexterityux.com
SUMMARY:Happy Hour\, AIGA & Friends of Figma\, Cincinnati
DESCRIPTION:AIGA Cincinnati joins Friends of Figma Cincinnati for a Happy Hour. \nSee cincinnati.aiga.org for more information.
URL:https://dexterityux.com/ohioux-calendar/happy-hour-aiga-friends-of-figma-cincinnati/
CATEGORIES:By AIGA Cincinnati,Cincinnati metro (in-person)
ATTACH;FMTTYPE=image/png:https://dexterityux.com/wp-content/uploads/Screenshot-2024-03-22-at-8.13.51 PM.png
END:VEVENT
BEGIN:VEVENT
DTSTART;TZID=America/Detroit:20240308T080000
DTEND;TZID=America/Detroit:20240308T100000
DTSTAMP:20260423T135439
CREATED:20240219T203415Z
LAST-MODIFIED:20240219T203415Z
UID:1404-1709884800-1709892000@dexterityux.com
SUMMARY:Together Digital: International Women's Day
DESCRIPTION:Once again\, Together Digital & Cintrifuse have come together to celebrate International Women’s Day with the StartupCincy community. \nJoin us on March 8\, 2024\, for “Creating Inclusive Tech\,” a panel discussion that will also include brunch\, our Ask & Give Exchange\, a support women-owned market\, and plenty of time for connecting. \nMore information and register at eventbrite.com.
URL:https://dexterityux.com/ohioux-calendar/together-digital-international-womens-day/
CATEGORIES:Cincinnati metro (in-person),Together Digital
ATTACH;FMTTYPE=image/jpeg:https://dexterityux.com/wp-content/uploads/togdig-iwd.jpeg
END:VEVENT
BEGIN:VEVENT
DTSTART;TZID=America/Detroit:20240222T080000
DTEND;TZID=America/Detroit:20240222T100000
DTSTAMP:20260423T135439
CREATED:20240219T201749Z
LAST-MODIFIED:20240219T202053Z
UID:1392-1708588800-1708596000@dexterityux.com
SUMMARY:Together Digital Cincinnati: 2024 Digital Trends
DESCRIPTION:Join Together Digital for a groundbreaking event featuring trailblazing women who are shaping the cutting edge of marketing\, advertising\, and tech. \nPrepare to leap into the digital future with 2024 Trends! \n2024 Trends isn’t just about what’s coming\, it’s about how to own it. Leave with actionable strategies to thrive in the ever-evolving digital ecosystem and inspire others along the way. \nMark your calendars! Join us on Thursday\, February 22 at COhatch Kenwood and witness the powerful force of women leading the charge in digital for 2024 and beyond. \nComing from a diverse range of positions and industries\, each of our panelists has unique insight into trends we’ll need to navigate in the coming year. \nMore information at eventbrite.com.
URL:https://dexterityux.com/ohioux-calendar/1392/
CATEGORIES:Cincinnati metro (in-person),Together Digital
ATTACH;FMTTYPE=image/jpeg:https://dexterityux.com/wp-content/uploads/todig-cincy-2-22.jpeg
END:VEVENT
BEGIN:VEVENT
DTSTART;TZID=America/Detroit:20240213T180000
DTEND;TZID=America/Detroit:20240213T193000
DTSTAMP:20260423T135439
CREATED:20240120T002924Z
LAST-MODIFIED:20240120T002924Z
UID:1329-1707847200-1707852600@dexterityux.com
SUMMARY:The New Era of Product Design
DESCRIPTION:IxDA Cincinnati presents: User-Centered\, Business-Driven: The New Era of Product Design. Prove Design’s value to users and business stakeholders with these strategies for Evolutionary Improvement and Revolutionary Disruption. \nDive into the depths of Product Design\, a field that transcends traditional UX by harmonizing user needs with business goals. In this talk\, you’ll explore various methodologies and understand how continuous discovery keeps businesses aligned with customer behavior. \nRSVP at meetup.com or eventbrite.com.
URL:https://dexterityux.com/ohioux-calendar/the-new-era-of-product-design/
CATEGORIES:By IxDA Cincinnati,Cincinnati metro (in-person)
ATTACH;FMTTYPE=image/png:https://dexterityux.com/wp-content/uploads/Screenshot-2024-01-19-at-7.24.32 PM.png
END:VEVENT
BEGIN:VEVENT
DTSTART;TZID=America/Detroit:20240118T173000
DTEND;TZID=America/Detroit:20240118T200000
DTSTAMP:20260423T135439
CREATED:20231013T134630Z
LAST-MODIFIED:20231130T000950Z
UID:1111-1705599000-1705608000@dexterityux.com
SUMMARY:Cincinnati Holiday Hangover & Fundraiser
DESCRIPTION:Marketers\, designers\, and UXers… Extend the holiday season – bring your friends and make new ones while having fun at this community holiday party. Your ticket includes lite bites\, a drink\, and a raffle ticket (for a fun gift). \nThis event is organized by Greater Cincinnati’s “Mixed Media” group (aka Ad Club\, AIGA\, American Marketing Association\, Digital CX\, IABC\, IxDA\, PRSA\, and Together Digital). \nProceeds will support Bridge Adaptive Sports and Recreation\, a local charity that enables individuals to participate in adaptive sports and recreation in order to improve their quality of life. \nBuy tickets at eventbrite.com.
URL:https://dexterityux.com/ohioux-calendar/cincinnati-multi-group-meetup/
CATEGORIES:By AIGA Cincinnati,By IxDA Cincinnati,Cincinnati metro (in-person)
ATTACH;FMTTYPE=image/jpeg:https://dexterityux.com/wp-content/uploads/https___cdn.evbuc_.com_images_649225159_274660603408_1_original.jpeg
END:VEVENT
BEGIN:VEVENT
DTSTART;TZID=America/Detroit:20240109T150000
DTEND;TZID=America/Detroit:20240109T170000
DTSTAMP:20260423T135439
CREATED:20231217T194555Z
LAST-MODIFIED:20231217T194555Z
UID:1299-1704812400-1704819600@dexterityux.com
SUMMARY:Cincinnati AI for Humans
DESCRIPTION:Join the largest AI meetup in this region where we share the amazing things people are doing in AI and collaborate with others. \nAre you passionate about Artificial Intelligence? Curious about how AI is reshaping businesses and our daily lives? Whether you’re an AI veteran or a curious newcomer\, you’re invited to join us for an unforgettable afternoon of innovation\, networking\, and real-world insights. \nRSVP at eventbrite.com.
URL:https://dexterityux.com/ohioux-calendar/cincinnati-ai-for-humans/
CATEGORIES:Cincinnati metro (in-person)
ATTACH;FMTTYPE=image/jpeg:https://dexterityux.com/wp-content/uploads/https___cdn.evbuc_.com_images_656950949_184972222926_1_original.jpeg
END:VEVENT
BEGIN:VEVENT
DTSTART;TZID=America/Detroit:20231207T170000
DTEND;TZID=America/Detroit:20231207T200000
DTSTAMP:20260423T135439
CREATED:20231001T005625Z
LAST-MODIFIED:20231115T000255Z
UID:1043-1701968400-1701979200@dexterityux.com
SUMMARY:December Cincinnati Webtech Drinkup
DESCRIPTION:The Cincinnati Webtech Drinkup meets the first Thursday of every month at Braxton Brewing in Cincinnati. \nThe focus of the event is for industry professionals to connect and talk about technology\, software development\, design\, digital marketing and\, of course\, beer! \nThis month is sponsored by our friends at Kforce! \nRSVP at meetup.com.
URL:https://dexterityux.com/ohioux-calendar/december-cincinnati-webtech-drinkup/
CATEGORIES:By Cincinnati Webtech Drinkup,Cincinnati metro (in-person)
ATTACH;FMTTYPE=image/jpeg:https://dexterityux.com/wp-content/uploads/cincywebtechdrinkup.jpeg
END:VEVENT
BEGIN:VEVENT
DTSTART;TZID=America/Detroit:20231108T173000
DTEND;TZID=America/Detroit:20231108T173000
DTSTAMP:20260423T135439
CREATED:20231106T012809Z
LAST-MODIFIED:20231106T012836Z
UID:1180-1699464600-1699464600@dexterityux.com
SUMMARY:DAAP Creative Entrepreneurialism Lecture Series
DESCRIPTION:UC DAAP’s second Creative Entrepreneurial Lecture Event is November 8th at 5:30 at DAAP\, room 5401. Its open to the public and free of charge. \nThis panel discussion will assemble four designers from the Bay Area. They will share their experiences\, the road to entrepreneurialism\, and what everyone in DAAP needs to know about leveraging your creativity to pursue your dreams. \nLearn more at daap.uc.edu.
URL:https://dexterityux.com/ohioux-calendar/daap-creative-entrepreneurialism-lecture-series/
CATEGORIES:Cincinnati metro (in-person)
ATTACH;FMTTYPE=image/jpeg:https://dexterityux.com/wp-content/uploads/creative-entrepreneurialism-lecture-series-hero.jpeg
END:VEVENT
BEGIN:VEVENT
DTSTART;TZID=America/Detroit:20231102T183000
DTEND;TZID=America/Detroit:20231102T203000
DTSTAMP:20260423T135439
CREATED:20231011T204237Z
LAST-MODIFIED:20231013T124225Z
UID:1104-1698949800-1698957000@dexterityux.com
SUMMARY:Lightning Talks & Professional + Student Mixer at NKU
DESCRIPTION:Join IxDA Cincinnati for the last event of the calendar year as we partner with Northern Kentucky University. Together\, we would like to provide their students with the opportunity to learn from industry professionals about what it’s like to work in the field. \nA series of lightning talks will kick off the night followed by networking and refreshments. Ask questions\, build mentor/mentee relationships\, and make connections\, while you help cultivate the next generation of our UX community. \nRSVP at meetup.com or eventbrite.com.
URL:https://dexterityux.com/ohioux-calendar/lightning-talks-professional-student-mixer-at-nku/
CATEGORIES:By AIGA Cincinnati,Cincinnati metro (in-person)
ATTACH;FMTTYPE=image/jpeg:https://dexterityux.com/wp-content/uploads/ixdanku.jpeg
END:VEVENT
BEGIN:VEVENT
DTSTART;TZID=America/Detroit:20231102T180000
DTEND;TZID=America/Detroit:20231102T200000
DTSTAMP:20260423T135439
CREATED:20231007T151156Z
LAST-MODIFIED:20231007T151240Z
UID:1074-1698948000-1698955200@dexterityux.com
SUMMARY:Design Community Co-Creation Session
DESCRIPTION:Join us for a unique opportunity to shape the future of the Cincinnati Industrial Designers Society of America (IDSA) chapter. \nWe’re excited to announce our upcoming Community Co-Design Event. Hosted at local product development consultancy Kaleidoscope Innovation\, this interactive gathering is your chance to share your thoughts\, ideas\, and vision for the future of our programming. \nYour voice matters to us\, and we’re eager to hear what you have to say. Whether you’re a seasoned professional\, an emerging designer\, or a student passionate about industrial design\, your perspective can help us create programming that truly meets the needs of our community. \nDon’t miss this chance to contribute to our local IDSA chapter’s growth. All are welcome – whether you’re an IDSA member or not\, or work in design or an adjacent profession like user experience. \nSee eventbrite.com for more information and to register.
URL:https://dexterityux.com/ohioux-calendar/idsa-cincy-session/
CATEGORIES:Cincinnati metro (in-person),IDSA Cincinnati
ATTACH;FMTTYPE=image/jpeg:https://dexterityux.com/wp-content/uploads/idsacincysession.jpeg
END:VEVENT
BEGIN:VEVENT
DTSTART;TZID=America/Detroit:20231102T170000
DTEND;TZID=America/Detroit:20231102T200000
DTSTAMP:20260423T135439
CREATED:20231001T005233Z
LAST-MODIFIED:20231001T005342Z
UID:1039-1698944400-1698955200@dexterityux.com
SUMMARY:November Cincinnati Webtech Drinkup
DESCRIPTION:The Cincinnati Webtech Drinkup meets the first Thursday of every month at Braxton Brewing in Cincinnati. \nThe focus of the event is for industry professionals to connect and talk about technology\, software development\, design\, digital marketing and\, of course\, beer! \nRSVP at meetup.com.
URL:https://dexterityux.com/ohioux-calendar/november-cincinnati-webtech-drinkup/
CATEGORIES:By Cincinnati Webtech Drinkup,Cincinnati metro (in-person)
ATTACH;FMTTYPE=image/jpeg:https://dexterityux.com/wp-content/uploads/cincywebtechdrinkup.jpeg
END:VEVENT
BEGIN:VEVENT
DTSTART;TZID=America/Detroit:20231013T093000
DTEND;TZID=America/Detroit:20231013T113000
DTSTAMP:20260423T135439
CREATED:20231007T154119Z
LAST-MODIFIED:20231007T154119Z
UID:1079-1697189400-1697196600@dexterityux.com
SUMMARY:AI Explosion: How to use AI to become a better and more efficient designer
DESCRIPTION:We know AI is going to transform all creative disciplines including design. How? When?. To some it’s scary\, to others it’s exciting. \nAt this Cincinnati Design Week workshop\, we hope to cut through the hype\, the rumors\, and exaggerations to inform our fellow creatives about what is real today\, what’s coming and how we can continue to produce amazing work that connects with the hearts and minds of our audiences. \nSee cincinnati.aiga.org for more information and to register ($5/$10).
URL:https://dexterityux.com/ohioux-calendar/ai-explosion-how-to-use-ai-to-become-a-better-and-more-efficient-designer/
CATEGORIES:By AIGA Cincinnati,Cincinnati Design Week,Cincinnati metro (in-person)
ATTACH;FMTTYPE=image/png:https://dexterityux.com/wp-content/uploads/Screen-Shot-2023-10-07-at-11.40.43-AM.png
END:VEVENT
BEGIN:VEVENT
DTSTART;VALUE=DATE:20231013
DTEND;VALUE=DATE:20231016
DTSTAMP:20260423T135439
CREATED:20231001T003015Z
LAST-MODIFIED:20231001T003015Z
UID:1030-1697155200-1697414399@dexterityux.com
SUMMARY:Southwest Ohio GiveCamp 2023
DESCRIPTION:GiveCamp is a weekend-long event where software developers\, designers\, database administrators\,\nproject managers and creative professionals donate their time to create software and web-based applications for non-profit organizations. \nCalling all developers\, web and UX designers\, project managers and anyone who wants to help! We’re looking for both technical and non-technical volunteers to take on the technology wish list of our non-profit partners. \nAt Miami University Voice of America Learning Center. \nSee southwestohiogivecamp.org for more information. Register at eventbrite.com.
URL:https://dexterityux.com/ohioux-calendar/southwest-ohio-givecamp-2023/
CATEGORIES:Cincinnati metro (in-person)
ATTACH;FMTTYPE=image/jpeg:https://dexterityux.com/wp-content/uploads/swogivecamp.jpeg
END:VEVENT
BEGIN:VEVENT
DTSTART;VALUE=DATE:20231012
DTEND;VALUE=DATE:20231013
DTSTAMP:20260423T135439
CREATED:20230923T191747Z
LAST-MODIFIED:20230923T191906Z
UID:1000-1697068800-1697155199@dexterityux.com
SUMMARY:Elevate: Together Digital's National Conference
DESCRIPTION:Mark your calendars for a transformative experience on October 12th\, 2023 at the Summit Hotel in Cincinnati\, Ohio. \nElevate\, Together Digital’s National Conference is a must-attend conference of the year. Join for a day of authentic conversations and invaluable content\, all within a community that champions inclusivity and collaboration. From exploring the latest trends in AI to harnessing leadership skills\, from mastering the art of social media to boosting confidence\, and from navigating workplace trauma to overcoming uncertainty\, this conference covers it all. \nTogether Digital’s purpose is to educate and empower women within digital to be their best selves professionally and personally. We are the network where women help women succeed in digital – and life. \nSee togetherindigital.com for more information.
URL:https://dexterityux.com/ohioux-calendar/elevate-together-digitals-national-conference/
CATEGORIES:Cincinnati metro (in-person)
ATTACH;FMTTYPE=image/png:https://dexterityux.com/wp-content/uploads/tdconf2023b.png
END:VEVENT
BEGIN:VEVENT
DTSTART;TZID=America/Detroit:20231011T180000
DTEND;TZID=America/Detroit:20231011T203000
DTSTAMP:20260423T135439
CREATED:20230910T192659Z
LAST-MODIFIED:20230913T021226Z
UID:901-1697047200-1697056200@dexterityux.com
SUMMARY:Inclusive Design Unleashed
DESCRIPTION:Inclusive Design Unleashed: Amplifying Positive Effects of Accessibility-Centric Approaches workshop led by Annie Hensley and Alex Hiser. \nWhen you design with accessibility in mind\, the benefits extend far beyond solely people with disabilities. Join us for an inspirational discussion and hands-on session where we’ll explore how designing for specific users transforms the way we approach a problem. You’ll learn how incorporating accessibility principles can lead to more intuitive\, user-friendly and innovative designs that benefit everyone\, regardless of their abilities. Creators of all experience levels are welcome to participate in this inspirational and exciting event! \nLearn more and buy tickets at eventbrite.com. \nHosted by IxDA Cincinnati\, part of Cincinnati Design Week.
URL:https://dexterityux.com/ohioux-calendar/inclusive-design-unleashed/
CATEGORIES:By IxDA Cincinnati,Cincinnati Design Week,Cincinnati metro (in-person)
ATTACH;FMTTYPE=image/jpeg:https://dexterityux.com/wp-content/uploads/cdw-inclusive-design.jpeg
END:VEVENT
BEGIN:VEVENT
DTSTART;VALUE=DATE:20231009
DTEND;VALUE=DATE:20231014
DTSTAMP:20260423T135439
CREATED:20230910T192117Z
LAST-MODIFIED:20230913T021212Z
UID:898-1696809600-1697241599@dexterityux.com
SUMMARY:Cincinnati Design Week
DESCRIPTION:Cincinnati Design Week is an annual multi-day celebration of design. Presented by AIGA Cincinnati\, this is the 10th CDW\, filled with workshops\, panel discussions\, speaking events and more. \nSee cincinnatidesignweek.com for the full schedule and how to register for each event.
URL:https://dexterityux.com/ohioux-calendar/cincinnati-design-week/
CATEGORIES:By AIGA Cincinnati,Cincinnati Design Week,Cincinnati metro (in-person)
ATTACH;FMTTYPE=image/jpeg:https://dexterityux.com/wp-content/uploads/cdw2023.jpeg
END:VEVENT
BEGIN:VEVENT
DTSTART;TZID=America/Detroit:20231005T170000
DTEND;TZID=America/Detroit:20231005T200000
DTSTAMP:20260423T135439
CREATED:20231001T004722Z
LAST-MODIFIED:20231001T004947Z
UID:1033-1696525200-1696536000@dexterityux.com
SUMMARY:October Cincinnati Webtech Drinkup
DESCRIPTION:The Cincinnati Webtech Drinkup meets the first Thursday of every month at Braxton Brewing in Cincinnati. \nThe focus of the event is for industry professionals to connect and talk about technology\, software development\, design\, digital marketing and\, of course\, beer! \nRSVP at meetup.com.
URL:https://dexterityux.com/ohioux-calendar/1033/
CATEGORIES:By Cincinnati Webtech Drinkup,Cincinnati metro (in-person)
ATTACH;FMTTYPE=image/jpeg:https://dexterityux.com/wp-content/uploads/cincywebtechdrinkup.jpeg
END:VEVENT
BEGIN:VEVENT
DTSTART;TZID=America/Detroit:20230926T180000
DTEND;TZID=America/Detroit:20230926T193000
DTSTAMP:20260423T135439
CREATED:20230910T160909Z
LAST-MODIFIED:20230910T184750Z
UID:865-1695751200-1695756600@dexterityux.com
SUMMARY:An Introspective Panel Discussion on AI
DESCRIPTION:On World Interaction Design Day\, join IxDA Cincinnati as a panel of Cincinnati experts share how their companies are approaching artificial intelligence. \nThere is buzz about AI just about everywhere\, and it can be daunting to think about how to approach it in our roles as designers\, as well as within our companies. Plus we are striving for innovation while promoting ethical practices. \nThe panel discussion will dive into how local companies and agencies are approaching AI\, while sharing their advice on how to take advantage of this technology while staying human centered. \nSee eventbrite.com for more information.
URL:https://dexterityux.com/ohioux-calendar/an-introspective-panel-discussion-on-ai/
CATEGORIES:By IxDA Cincinnati,Cincinnati metro (in-person),World Interaction Design Day
ATTACH;FMTTYPE=image/jpeg:https://dexterityux.com/wp-content/uploads/ixdd-cincy-2023.jpeg
END:VEVENT
BEGIN:VEVENT
DTSTART;TZID=America/Detroit:20230923T130000
DTEND;TZID=America/Detroit:20230923T150000
DTSTAMP:20260423T135439
CREATED:20230916T210048Z
LAST-MODIFIED:20230916T210048Z
UID:945-1695474000-1695481200@dexterityux.com
SUMMARY:Human Factors Social
DESCRIPTION:The Central Tri-state Human Factors Group is planning a social event for September 23rd from 1pm to 3pm at Element Eatery\, 5350 Medpace Way\, Cincinnati OH 45227.
URL:https://dexterityux.com/ohioux-calendar/human-factors-social/
CATEGORIES:Cincinnati metro (in-person)
ATTACH;FMTTYPE=image/jpeg:https://dexterityux.com/wp-content/uploads/centrial-tristate-HFEp.jpeg
END:VEVENT
BEGIN:VEVENT
DTSTART;TZID=America/Detroit:20230726T180000
DTEND;TZID=America/Detroit:20230726T200000
DTSTAMP:20260423T135439
CREATED:20230910T191021Z
LAST-MODIFIED:20230910T191056Z
UID:890-1690394400-1690401600@dexterityux.com
SUMMARY:Summer Mixer
DESCRIPTION:It’s summertime – time to meet new people and grow your community! Enjoy drinks and lite bites as you make new friends over interactive networking games. \nHosted by Cincinnati’s “Mixed Media” – 8 digital/design/marketing orgs.
URL:https://dexterityux.com/ohioux-calendar/summer-mixer/
CATEGORIES:By AIGA Cincinnati,By IxDA Cincinnati,Cincinnati metro (in-person)
ATTACH;FMTTYPE=image/jpeg:https://dexterityux.com/wp-content/uploads/cincy-summer-mixer.jpeg
END:VEVENT
END:VCALENDAR