BEGIN:VCALENDAR
VERSION:2.0
PRODID:-//Dexterity UX - ECPv6.13.2.1//NONSGML v1.0//EN
CALSCALE:GREGORIAN
METHOD:PUBLISH
X-ORIGINAL-URL:https://dexterityux.com
X-WR-CALDESC:Events for Dexterity UX
REFRESH-INTERVAL;VALUE=DURATION:PT1H
X-Robots-Tag:noindex
X-PUBLISHED-TTL:PT1H
BEGIN:VTIMEZONE
TZID:America/Detroit
BEGIN:DAYLIGHT
TZOFFSETFROM:-0500
TZOFFSETTO:-0400
TZNAME:EDT
DTSTART:20230312T070000
END:DAYLIGHT
BEGIN:STANDARD
TZOFFSETFROM:-0400
TZOFFSETTO:-0500
TZNAME:EST
DTSTART:20231105T060000
END:STANDARD
END:VTIMEZONE
BEGIN:VEVENT
DTSTART;TZID=America/Detroit:20230831T170000
DTEND;TZID=America/Detroit:20230831T190000
DTSTAMP:20260423T212218
CREATED:20230910T191417Z
LAST-MODIFIED:20230910T191456Z
UID:895-1693501200-1693508400@dexterityux.com
SUMMARY:UX Happy Hour
DESCRIPTION:IxDF Columbus is meeting and networking over drinks & good food! Share UX design insights and resources\, discuss UX problems you are facing now\, or just chat about anything else. It’s going to be an informal\, cozy meet-up.
URL:https://dexterityux.com/ohioux-calendar/ux-happy-hour/
CATEGORIES:By IxDF Columbus,Columbus metro (in-person)
ATTACH;FMTTYPE=image/png:https://dexterityux.com/wp-content/uploads/Screen-Shot-2023-09-10-at-3.14.27-PM.png
END:VEVENT
END:VCALENDAR