BEGIN:VCALENDAR
VERSION:2.0
PRODID:-//Dexterity UX - ECPv6.13.2.1//NONSGML v1.0//EN
CALSCALE:GREGORIAN
METHOD:PUBLISH
X-ORIGINAL-URL:https://dexterityux.com
X-WR-CALDESC:Events for Dexterity UX
REFRESH-INTERVAL;VALUE=DURATION:PT1H
X-Robots-Tag:noindex
X-PUBLISHED-TTL:PT1H
BEGIN:VTIMEZONE
TZID:America/Detroit
BEGIN:DAYLIGHT
TZOFFSETFROM:-0500
TZOFFSETTO:-0400
TZNAME:EDT
DTSTART:20230312T070000
END:DAYLIGHT
BEGIN:STANDARD
TZOFFSETFROM:-0400
TZOFFSETTO:-0500
TZNAME:EST
DTSTART:20231105T060000
END:STANDARD
BEGIN:DAYLIGHT
TZOFFSETFROM:-0500
TZOFFSETTO:-0400
TZNAME:EDT
DTSTART:20240310T070000
END:DAYLIGHT
BEGIN:STANDARD
TZOFFSETFROM:-0400
TZOFFSETTO:-0500
TZNAME:EST
DTSTART:20241103T060000
END:STANDARD
END:VTIMEZONE
BEGIN:VEVENT
DTSTART;TZID=America/Detroit:20240409T183000
DTEND;TZID=America/Detroit:20240409T203000
DTSTAMP:20260423T181450
CREATED:20240409T175357Z
LAST-MODIFIED:20240409T175357Z
UID:1481-1712687400-1712694600@dexterityux.com
SUMMARY:Design System Wisdom\, IxDA Columbus
DESCRIPTION:For the last six months\, Ben Callahan has facilitated a collaborative learning experiment called The Question. Each week\, he and a co host ask a question of the design system community\, gather their responses\, and host a live show digging into the data they gather. The amount of like-minded learners this has gathered is beautiful\, and each week they reveal new insights to complex design system challenges. This presentation is series of highlights from The Question. Attending will broaden your perspective on systems and (hopefully) encourage you to stay in learning mode. \nTo join IxDA Columbus for design system wisdom\, RSVP at meetup.com.
URL:https://dexterityux.com/ohioux-calendar/design-system-wisdom-ixda-columbus/
CATEGORIES:By IxDA Columbus,Columbus metro (in-person)
ATTACH;FMTTYPE=image/webp:https://dexterityux.com/wp-content/uploads/600_520161493.webp
END:VEVENT
BEGIN:VEVENT
DTSTART;TZID=America/Detroit:20240405T080000
DTEND;TZID=America/Detroit:20240405T093000
DTSTAMP:20260423T181450
CREATED:20240331T193420Z
LAST-MODIFIED:20240331T193420Z
UID:1458-1712304000-1712309400@dexterityux.com
SUMMARY:IxDA Columbus Chat 'n Pancakes
DESCRIPTION:Join IxDA Columbus for another First-Friday-of-the-Month breakfast get-together. \nMore info and RSVP at meetup.com. \n 
URL:https://dexterityux.com/ohioux-calendar/ixda-columbus-chat-n-pancakes-3/
CATEGORIES:By IxDA Columbus,Columbus metro (in-person)
ATTACH;FMTTYPE=image/jpeg:https://dexterityux.com/wp-content/uploads/fw2-1200x801-1.jpg
END:VEVENT
BEGIN:VEVENT
DTSTART;TZID=America/Detroit:20240312T090000
DTEND;TZID=America/Detroit:20240312T160000
DTSTAMP:20260423T181450
CREATED:20240220T125605Z
LAST-MODIFIED:20240220T125627Z
UID:1419-1710234000-1710259200@dexterityux.com
SUMMARY:Coworking w/ IxDA Columbus at Coffeeology
DESCRIPTION:Join IxDA Columbus (and colleagues in the CBUX Slack group): work remotely together with like-minded UX folks. \nWe will be at Coffeeology up in Delaware this month. It’s on a great strip of old Delawares main drag with lots of restaurants nearby for lunch. \nFeel free to come and go anytime during the day\, and don’t forget your charger and headphones! You can find street parking around the building. \nRSVP at meetup.com.
URL:https://dexterityux.com/ohioux-calendar/coworking-w-ixda-columbus-at-coffeeology/
CATEGORIES:By IxDA Columbus,Columbus metro (in-person)
ATTACH;FMTTYPE=image/webp:https://dexterityux.com/wp-content/uploads/ixda-wfh-delaware.webp
END:VEVENT
BEGIN:VEVENT
DTSTART;TZID=America/Detroit:20240222T180000
DTEND;TZID=America/Detroit:20240222T200000
DTSTAMP:20260423T181450
CREATED:20240125T222348Z
LAST-MODIFIED:20240125T222348Z
UID:1355-1708624800-1708632000@dexterityux.com
SUMMARY:The Aesthetics of “Easy to Use” w/ Marty Gage
DESCRIPTION:Join IxDA Columbus as it hosts The Aesthetics of “Easy to Use” w/ Marty Gage at Lextant. \nExperts use heuristics and cognitive theories to explain why something is or is not usable. \nBut what do things look and act like that are perceived as “user friendly”? \nWhat are the sensory signals that viscerally communicate that a thing is going to be “easy to use”? \nThis presentation will be a visual description of how people explain “easy to use”\, in their own words\, using pictures and stimuli. \nLearn more and RSVP at meetup.com.
URL:https://dexterityux.com/ohioux-calendar/the-aesthetics-of-easy-to-use-w-marty-gage/
CATEGORIES:By IxDA Columbus,Columbus metro (in-person)
ATTACH;FMTTYPE=image/png:https://dexterityux.com/wp-content/uploads/Screenshot-2024-01-25-at-5.20.46 PM.png
END:VEVENT
BEGIN:VEVENT
DTSTART;TZID=America/Detroit:20240213T090000
DTEND;TZID=America/Detroit:20240213T160000
DTSTAMP:20260423T181450
CREATED:20240202T153411Z
LAST-MODIFIED:20240202T153411Z
UID:1372-1707814800-1707840000@dexterityux.com
SUMMARY:Cowork in Columbus
DESCRIPTION:Join IxDA Columbus + the CBUX Slack group and work remotely together with like-minded UX folks. We will be in the Junto Lobby\, which has a great space with desks and chairs\, along with an adjoining coffee shop. There is also a fantastic restaurant on level 1 and another on level 8 with a fabulous view of Columbus for when you get peckish. \nFeel free to come and go anytime during the day\, and don’t forget your charger and headphones! You can find street parking around the building. Junto is located across the street from COSI. \nRSVP at meetup.com. \nFollowing the coworking is a Startup Columbus Happy Hour\, a few minutes walk away.
URL:https://dexterityux.com/ohioux-calendar/cowork-in-columbus/
CATEGORIES:By IxDA Columbus,Columbus metro (in-person)
ATTACH;FMTTYPE=image/png:https://dexterityux.com/wp-content/uploads/Screenshot-2024-02-02-at-10.32.13 AM.png
END:VEVENT
BEGIN:VEVENT
DTSTART;TZID=America/Detroit:20240202T080000
DTEND;TZID=America/Detroit:20240202T093000
DTSTAMP:20260423T181450
CREATED:20240125T221910Z
LAST-MODIFIED:20240125T222002Z
UID:1352-1706860800-1706866200@dexterityux.com
SUMMARY:IxDA Columbus Chat 'n Pancakes
DESCRIPTION:Join members of the Columbus UX and design community for our casual\, monthly\, talky-talky food time. \nRSVP at meetup.com.
URL:https://dexterityux.com/ohioux-calendar/ixda-columbus-chat-n-pancakes-2/
CATEGORIES:By IxDA Columbus,Columbus metro (in-person)
ATTACH;FMTTYPE=image/png:https://dexterityux.com/wp-content/uploads/Screenshot-2024-01-25-at-5.18.21 PM.png
END:VEVENT
BEGIN:VEVENT
DTSTART;TZID=America/Detroit:20240122T180000
DTEND;TZID=America/Detroit:20240122T200000
DTSTAMP:20260423T181450
CREATED:20240120T000328Z
LAST-MODIFIED:20240120T000328Z
UID:1326-1705946400-1705953600@dexterityux.com
SUMMARY:The State of Design Systems
DESCRIPTION:IxDA Columbus presents The State of Design Systems with Noelle Lansford: A 2023 recap and where Design Systems are headed. \nWhether you use a design system or contribute to building one\, you’ve probably been hearing both extreme optimism and pessimism about the practice. We are going to specifically look at how happenings affect Design Systems. \nTogether\, we’ll talk about things like: Industry News\, New Ul patterns\, Al\, Jobs\, Tools. \nRSVP at meetup.com.
URL:https://dexterityux.com/ohioux-calendar/the-state-of-design-systems/
CATEGORIES:By IxDA Columbus,Columbus metro (in-person)
ATTACH;FMTTYPE=image/jpeg:https://dexterityux.com/wp-content/uploads/1705586996135.jpeg
END:VEVENT
BEGIN:VEVENT
DTSTART;TZID=America/Detroit:20240105T080000
DTEND;TZID=America/Detroit:20240105T093000
DTSTAMP:20260423T181450
CREATED:20231229T164755Z
LAST-MODIFIED:20231229T164839Z
UID:1318-1704441600-1704447000@dexterityux.com
SUMMARY:IxDA Columbus Chat ‘n Pancakes
DESCRIPTION:Join the Central Ohio UX and Design community for our monthly breakfast hang (the first Friday of every month). \nIn January\, IxDA Columbus is meeting at Fitzy’s Old Fashioned Diner. \nRSVP at meetup.com.
URL:https://dexterityux.com/ohioux-calendar/ixda-columbus-chat-n-pancakes/
CATEGORIES:By IxDA Columbus,Columbus metro (in-person)
ATTACH;FMTTYPE=image/png:https://dexterityux.com/wp-content/uploads/Screenshot-2023-12-29-at-11.46.37 AM.png
END:VEVENT
BEGIN:VEVENT
DTSTART;TZID=America/Detroit:20231212T090000
DTEND;TZID=America/Detroit:20231212T160000
DTSTAMP:20260423T181450
CREATED:20231110T211450Z
LAST-MODIFIED:20231110T211450Z
UID:1218-1702371600-1702396800@dexterityux.com
SUMMARY:Cowork in Dublin with IxDA Columbus
DESCRIPTION:The 2nd Tuesday of every month\, join IxDA Columbus at Getaway Brewing Company in Dublin to Work from Here. \nA $5 entrance fee gets you unlimited coffee and a great space to work. \nNo planned event during the day\, but an opportunity to get out of the house\, into a beautiful and well lit space\, and cowork with UX practitioners. \nPlenty of room\, outlets\, nearby options for lunch\, and UX topics to talk about. \nRSVP at meetup.com.
URL:https://dexterityux.com/ohioux-calendar/cowork-in-dublin-with-ixda-columbus/
CATEGORIES:By IxDA Columbus,Columbus metro (in-person)
ATTACH;FMTTYPE=image/jpeg:https://dexterityux.com/wp-content/uploads/wfh-ixda-2nd-tuesday-banner.jpg
END:VEVENT
BEGIN:VEVENT
DTSTART;TZID=America/Detroit:20231201T080000
DTEND;TZID=America/Detroit:20231201T093000
DTSTAMP:20260423T181450
CREATED:20231110T214038Z
LAST-MODIFIED:20231126T193748Z
UID:1232-1701417600-1701423000@dexterityux.com
SUMMARY:IxDA Chat 'n Pancakes\, December
DESCRIPTION:The first Friday of every month\, members of the Central Ohio UX and Design community get together for a casual breakfast. \nAt Bottoms Up on W. Broad in December. \nSee meetup.com to RSVP.
URL:https://dexterityux.com/ohioux-calendar/ixda-chat-n-pancakes-december/
CATEGORIES:By IxDA Columbus,Columbus metro (in-person)
ATTACH;FMTTYPE=image/png:https://dexterityux.com/wp-content/uploads/Screen-Shot-2023-11-26-at-2.37.07-PM.png
END:VEVENT
BEGIN:VEVENT
DTSTART;TZID=America/Detroit:20231114T090000
DTEND;TZID=America/Detroit:20231114T160000
DTSTAMP:20260423T181450
CREATED:20231110T210846Z
LAST-MODIFIED:20231110T211016Z
UID:1214-1699952400-1699977600@dexterityux.com
SUMMARY:Work from Getaway Brewing with IxDA Columbus
DESCRIPTION:The 2nd Tuesday of every month\, join IxDA Columbus at Getaway Brewing Company in Dublin to Work from Here. \nA $5 entrance fee gets you unlimited coffee and a great space to work. \nNo planned event during the day\, but an opportunity to get out of the house\, into a beautiful and well lit space\, and cowork with UX practitioners. \nPlenty of room\, outlets\, nearby options for lunch\, and UX topics to talk about. \nRSVP at meetup.com.
URL:https://dexterityux.com/ohioux-calendar/work-from-getaway-brewing-with-ixda-columbus/
CATEGORIES:By IxDA Columbus,Columbus metro (in-person)
ATTACH;FMTTYPE=image/jpeg:https://dexterityux.com/wp-content/uploads/wfh-ixda-2nd-tuesday-banner.jpg
END:VEVENT
BEGIN:VEVENT
DTSTART;TZID=America/Detroit:20231103T080000
DTEND;TZID=America/Detroit:20231103T093000
DTSTAMP:20260423T181450
CREATED:20230910T153930Z
LAST-MODIFIED:20231107T142518Z
UID:846-1698998400-1699003800@dexterityux.com
SUMMARY:IxDA Chat 'n Pancakes (Biscuits)
DESCRIPTION:The first Friday of every month\, members of the Central Ohio UX and Design community get together for a casual breakfast. \nSee meetup.com for the November location and how to RSVP.
URL:https://dexterityux.com/ohioux-calendar/ixda-chat-n-pancakes-3/
CATEGORIES:By IxDA Columbus,Columbus metro (in-person)
ATTACH;FMTTYPE=image/jpeg:https://dexterityux.com/wp-content/uploads/25509fc0-0f72-4001-86ee-642908328233.jpeg
END:VEVENT
BEGIN:VEVENT
DTSTART;TZID=America/Detroit:20231006T080000
DTEND;TZID=America/Detroit:20231006T093000
DTSTAMP:20260423T181450
CREATED:20230910T153816Z
LAST-MODIFIED:20230929T214138Z
UID:844-1696579200-1696584600@dexterityux.com
SUMMARY:IxDA Chat 'n Pancakes (Donuts)
DESCRIPTION:The first Friday of every month\, members of the Central Ohio UX and Design community get together for a casual breakfast. \nOn October 6\, we are meeting at DK Diner in Grandview Heights (famous for its donuts). \nSee meetup.com to RSVP.
URL:https://dexterityux.com/ohioux-calendar/ixda-chat-n-pancakes-2/
CATEGORIES:By IxDA Columbus,Columbus metro (in-person)
ATTACH;FMTTYPE=image/png:https://dexterityux.com/wp-content/uploads/Screen-Shot-2023-09-29-at-5.40.59-PM.png
END:VEVENT
BEGIN:VEVENT
DTSTART;TZID=America/Detroit:20230927T190000
DTEND;TZID=America/Detroit:20230927T210000
DTSTAMP:20260423T181450
CREATED:20230910T151412Z
LAST-MODIFIED:20230921T114348Z
UID:837-1695841200-1695848400@dexterityux.com
SUMMARY:Ethics and Design: A practical guide
DESCRIPTION:Celebrate World Interaction Design Day a day later with IxDA Columbus. \nGuthrie Weinschenk will present the difference between nudges\, mandates\, coercions and manipulations. \nWe will learn behavioral science methods and techniques that inform unethical tactics\, a formula to calculate how ethical your products and services are\, and more. \nDetails & registration at meetup.com. \nNOTE: On 9/21\, a new location was announced! The event has moved to CCAD Design Studios at 390 E. Broad Street.
URL:https://dexterityux.com/ohioux-calendar/ethics-and-design-a-practical-guide/
CATEGORIES:By IxDA Columbus,Columbus metro (in-person),World Interaction Design Day
ATTACH;FMTTYPE=image/png:https://dexterityux.com/wp-content/uploads/IXDD-Columbus-2023-2.png
END:VEVENT
BEGIN:VEVENT
DTSTART;TZID=America/Detroit:20230901T080000
DTEND;TZID=America/Detroit:20230901T093000
DTSTAMP:20260423T181450
CREATED:20230910T153408Z
LAST-MODIFIED:20231107T142333Z
UID:841-1693555200-1693560600@dexterityux.com
SUMMARY:IxDA Chat ‘n Pancakes
DESCRIPTION:The first Friday of every month\, members of the Central Ohio UX and Design community get together for a casual breakfast. \nSee meetup.com for the September location and how to RSVP.
URL:https://dexterityux.com/ohioux-calendar/ixda-chat-n-pancakes/
CATEGORIES:By IxDA Columbus,Columbus metro (in-person)
ATTACH;FMTTYPE=image/jpeg:https://dexterityux.com/wp-content/uploads/25509fc0-0f72-4001-86ee-642908328233.jpeg
END:VEVENT
END:VCALENDAR