BEGIN:VCALENDAR
VERSION:2.0
PRODID:-//Dexterity UX - ECPv6.13.2.1//NONSGML v1.0//EN
CALSCALE:GREGORIAN
METHOD:PUBLISH
X-WR-CALNAME:Dexterity UX
X-ORIGINAL-URL:https://dexterityux.com
X-WR-CALDESC:Events for Dexterity UX
REFRESH-INTERVAL;VALUE=DURATION:PT1H
X-Robots-Tag:noindex
X-PUBLISHED-TTL:PT1H
BEGIN:VTIMEZONE
TZID:America/Detroit
BEGIN:DAYLIGHT
TZOFFSETFROM:-0500
TZOFFSETTO:-0400
TZNAME:EDT
DTSTART:20240310T070000
END:DAYLIGHT
BEGIN:STANDARD
TZOFFSETFROM:-0400
TZOFFSETTO:-0500
TZNAME:EST
DTSTART:20241103T060000
END:STANDARD
END:VTIMEZONE
BEGIN:VEVENT
DTSTART;TZID=America/Detroit:20240229T180000
DTEND;TZID=America/Detroit:20240229T210000
DTSTAMP:20260423T205919
CREATED:20240222T162805Z
LAST-MODIFIED:20240222T162805Z
UID:1423-1709229600-1709240400@dexterityux.com
SUMMARY:IDSA Columbus Student Merit Award Selection Night
DESCRIPTION:Senior Industrial Design Students from the Columbus College of Art & Design\, The Ohio State University\, and the International Center for Creativity will present their projects and portfolios before a jury of local professionals. \nOne finalist from each school will be selected to move onto the District level competition! \nDoors open at 6pm for refreshments. Presentations will begin at 6:30. \nThis year’s event is being hosted by The Ohio State University at\n220 Sullivant Hall (enter on the North side of the building – the Cartoon Library Entrance). There is public parking in the Ohio Union South Garage just South of the venue. \nAdditional details about this year’s SMA process from IDSA. \nRSVP for the event at eventbrite.com. \n 
URL:https://dexterityux.com/ohioux-calendar/idsa-columbus-student-merit-award-selection-night/
CATEGORIES:By IDSA Columbus,Columbus metro (in-person)
ATTACH;FMTTYPE=image/jpeg:https://dexterityux.com/wp-content/uploads/idsa-student-2024.jpeg
END:VEVENT
END:VCALENDAR