BEGIN:VCALENDAR
VERSION:2.0
PRODID:-//Dexterity UX - ECPv6.13.2.1//NONSGML v1.0//EN
CALSCALE:GREGORIAN
METHOD:PUBLISH
X-ORIGINAL-URL:https://dexterityux.com
X-WR-CALDESC:Events for Dexterity UX
REFRESH-INTERVAL;VALUE=DURATION:PT1H
X-Robots-Tag:noindex
X-PUBLISHED-TTL:PT1H
BEGIN:VTIMEZONE
TZID:America/Detroit
BEGIN:DAYLIGHT
TZOFFSETFROM:-0500
TZOFFSETTO:-0400
TZNAME:EDT
DTSTART:20230312T070000
END:DAYLIGHT
BEGIN:STANDARD
TZOFFSETFROM:-0400
TZOFFSETTO:-0500
TZNAME:EST
DTSTART:20231105T060000
END:STANDARD
BEGIN:DAYLIGHT
TZOFFSETFROM:-0500
TZOFFSETTO:-0400
TZNAME:EDT
DTSTART:20240310T070000
END:DAYLIGHT
BEGIN:STANDARD
TZOFFSETFROM:-0400
TZOFFSETTO:-0500
TZNAME:EST
DTSTART:20241103T060000
END:STANDARD
END:VTIMEZONE
BEGIN:VEVENT
DTSTART;TZID=America/Detroit:20240411T190000
DTEND;TZID=America/Detroit:20240411T210000
DTSTAMP:20260423T193304
CREATED:20240322T235401Z
LAST-MODIFIED:20240322T235401Z
UID:1437-1712862000-1712869200@dexterityux.com
SUMMARY:Cultivating Life Beyond Industrial Design
DESCRIPTION:Learn how to find work-life balance in ID\, exploring the intersection of creativity\, personal fulfillment\, and professional success with IDSA Cincinnati. \nLearn more and RSVP at eventbrite.com. \n 
URL:https://dexterityux.com/ohioux-calendar/cultivating-life-beyond-industrial-design/
CATEGORIES:IDSA Cincinnati,Online
END:VEVENT
BEGIN:VEVENT
DTSTART;TZID=America/Detroit:20231102T180000
DTEND;TZID=America/Detroit:20231102T200000
DTSTAMP:20260423T193304
CREATED:20231007T151156Z
LAST-MODIFIED:20231007T151240Z
UID:1074-1698948000-1698955200@dexterityux.com
SUMMARY:Design Community Co-Creation Session
DESCRIPTION:Join us for a unique opportunity to shape the future of the Cincinnati Industrial Designers Society of America (IDSA) chapter. \nWe’re excited to announce our upcoming Community Co-Design Event. Hosted at local product development consultancy Kaleidoscope Innovation\, this interactive gathering is your chance to share your thoughts\, ideas\, and vision for the future of our programming. \nYour voice matters to us\, and we’re eager to hear what you have to say. Whether you’re a seasoned professional\, an emerging designer\, or a student passionate about industrial design\, your perspective can help us create programming that truly meets the needs of our community. \nDon’t miss this chance to contribute to our local IDSA chapter’s growth. All are welcome – whether you’re an IDSA member or not\, or work in design or an adjacent profession like user experience. \nSee eventbrite.com for more information and to register.
URL:https://dexterityux.com/ohioux-calendar/idsa-cincy-session/
CATEGORIES:Cincinnati metro (in-person),IDSA Cincinnati
ATTACH;FMTTYPE=image/jpeg:https://dexterityux.com/wp-content/uploads/idsacincysession.jpeg
END:VEVENT
END:VCALENDAR