BEGIN:VCALENDAR
VERSION:2.0
PRODID:-//Dexterity UX - ECPv6.13.2.1//NONSGML v1.0//EN
CALSCALE:GREGORIAN
METHOD:PUBLISH
X-WR-CALNAME:Dexterity UX
X-ORIGINAL-URL:https://dexterityux.com
X-WR-CALDESC:Events for Dexterity UX
REFRESH-INTERVAL;VALUE=DURATION:PT1H
X-Robots-Tag:noindex
X-PUBLISHED-TTL:PT1H
BEGIN:VTIMEZONE
TZID:America/Detroit
BEGIN:DAYLIGHT
TZOFFSETFROM:-0500
TZOFFSETTO:-0400
TZNAME:EDT
DTSTART:20230312T070000
END:DAYLIGHT
BEGIN:STANDARD
TZOFFSETFROM:-0400
TZOFFSETTO:-0500
TZNAME:EST
DTSTART:20231105T060000
END:STANDARD
END:VTIMEZONE
BEGIN:VEVENT
DTSTART;TZID=America/Detroit:20231026T173000
DTEND;TZID=America/Detroit:20231026T193000
DTSTAMP:20260423T211955
CREATED:20231024T184156Z
LAST-MODIFIED:20231024T184232Z
UID:1170-1698341400-1698348600@dexterityux.com
SUMMARY:The Architecture of Fashion
DESCRIPTION:Step into the world of fashion innovation! The Center for Architecture and Design invites you to celebrate the grand opening of ‘The Architecture of Fashion’ exhibit and dive into the technical side of fashion design. \nKey Highlights: \n\nGain insights from Columbus fashion industry experts\nDiscover the fascinating world of technical design\nLearn how technical design bridges accessibility into the fashion industry\n\nOur expert panel discussion kicks off at 6:00 PM\, shedding light on this vital aspect of fashion. Don’t miss this opportunity to connect with the best in the industry! \nWe look forward to welcoming you to an evening of creativity\, inspiration\, and fashion innovation. \nLearn more at columbuscfad.org.
URL:https://dexterityux.com/ohioux-calendar/the-architecture-of-fashion/
CATEGORIES:By Columbus CFAD,Columbus metro (in-person)
ATTACH;FMTTYPE=image/jpeg:https://dexterityux.com/wp-content/uploads/Architecture-of-Fashion_Exhibit-Reception.jpeg
END:VEVENT
BEGIN:VEVENT
DTSTART;TZID=America/Detroit:20231010T100000
DTEND;TZID=America/Detroit:20231010T130000
DTSTAMP:20260423T211955
CREATED:20230910T140016Z
LAST-MODIFIED:20230910T184743Z
UID:824-1696932000-1696942800@dexterityux.com
SUMMARY:Design Pop! October
DESCRIPTION:Design Pop! is a fun 3–5 hour workshop offering engaging activities for aspiring young designers in grades 3–8. Energetic volunteers lead each workshop from design firms across the Columbus\, Ohio Metro Area. \nSee columbuscfad.org for more information.
URL:https://dexterityux.com/ohioux-calendar/design-pop-october/
CATEGORIES:By Columbus CFAD,Columbus metro (in-person)
ATTACH;FMTTYPE=image/png:https://dexterityux.com/wp-content/uploads/Screen-Shot-2023-09-10-at-10.13.14-AM.png
END:VEVENT
END:VCALENDAR